Workbook

Sheet מטריצה
A1: מטריצת 2x2: תדירות מול עלות טעות
A2: כל משימה מוצבת לפי הספים בגיליון "הגדרות". הספירה מתעדכנת לבד. כדי לראות את המשימות, מסננים את עמודת "רבעון" בגיליון הדירוג.
B4: עלות טעות גבוהה | C4: עלות טעות נמוכה
A5: תדירות גבוהה | B5: ="לאטמט קודם: תכוף ורגיש"&CHAR(10)&COUNTIF('דירוג משימות'!$G$5:$G$64,"1. לאטמט קודם")&" משימות, "&SUMIF('דירוג משימות'!$G$5:$G$64,"1. לאטמט קודם",'דירוג משימות'!$F$5:$F$64)&" שעות בחודש" | C5: ="לאטמט בפשטות: תכוף ופחות רגיש"&CHAR(10)&COUNTIF('דירוג משימות'!$G$5:$G$64,"2. לאטמט בפשטות")&" משימות, "&SUMIF('דירוג משימות'!$G$5:$G$64,"2. לאטמט בפשטות",'דירוג משימות'!$F$5:$F$64)&" שעות בחודש"
A6: תדירות נמוכה | B6: ="לאטמט עם שלב אישור: נדיר אבל יקר אם טועים"&CHAR(10)&COUNTIF('דירוג משימות'!$G$5:$G$64,"3. לאטמט עם בקרה")&" משימות, "&SUMIF('דירוג משימות'!$G$5:$G$64,"3. לאטמט עם בקרה",'דירוג משימות'!$F$5:$F$64)&" שעות בחודש" | C6: ="להשאיר ידני: נדיר וזול"&CHAR(10)&COUNTIF('דירוג משימות'!$G$5:$G$64,"4. להשאיר ידני")&" משימות, "&SUMIF('דירוג משימות'!$G$5:$G$64,"4. להשאיר ידני",'דירוג משימות'!$F$5:$F$64)&" שעות בחודש"

Sheet דירוג משימות
A1: מה לאטמט קודם: דירוג משימות
A2: ממלאים רק את העמודות הכתומות. הרבעון, הציון והדירוג מחושבים לבד. את הספים אפשר לשנות בגיליון "הגדרות".
A4: משימה חוזרת | B4: פעמים בחודש | C4: דקות לביצוע | D4: עלות טעות (1-5) | E4: קלות אוטומציה (1-5) | F4: שעות בחודש | G4: רבעון | H4: ציון עדיפות | I4: דירוג
F5: =IF(OR(B5="",C5=""),"",ROUND(B5*C5/60,1)) | G5: =IF(OR(B5="",D5=""),"",IF(AND(B5>='הגדרות'!$B$4,D5>='הגדרות'!$B$5),"1. לאטמט קודם",IF(B5>='הגדרות'!$B$4,"2. לאטמט בפשטות",IF(D5>='הגדרות'!$B$5,"3. לאטמט עם בקרה","4. להשאיר ידני")))) | H5: =IF(OR(F5="",D5="",E5=""),"",ROUND(F5*D5*E5,1)) | I5: =IF(H5="","",RANK(H5,$H$5:$H$64))
F6: =IF(OR(B6="",C6=""),"",ROUND(B6*C6/60,1)) | G6: =IF(OR(B6="",D6=""),"",IF(AND(B6>='הגדרות'!$B$4,D6>='הגדרות'!$B$5),"1. לאטמט קודם",IF(B6>='הגדרות'!$B$4,"2. לאטמט בפשטות",IF(D6>='הגדרות'!$B$5,"3. לאטמט עם בקרה","4. להשאיר ידני")))) | H6: =IF(OR(F6="",D6="",E6=""),"",ROUND(F6*D6*E6,1)) | I6: =IF(H6="","",RANK(H6,$H$5:$H$64))
F7: =IF(OR(B7="",C7=""),"",ROUND(B7*C7/60,1)) | G7: =IF(OR(B7="",D7=""),"",IF(AND(B7>='הגדרות'!$B$4,D7>='הגדרות'!$B$5),"1. לאטמט קודם",IF(B7>='הגדרות'!$B$4,"2. לאטמט בפשטות",IF(D7>='הגדרות'!$B$5,"3. לאטמט עם בקרה","4. להשאיר ידני")))) | H7: =IF(OR(F7="",D7="",E7=""),"",ROUND(F7*D7*E7,1)) | I7: =IF(H7="","",RANK(H7,$H$5:$H$64))
F8: =IF(OR(B8="",C8=""),"",ROUND(B8*C8/60,1)) | G8: =IF(OR(B8="",D8=""),"",IF(AND(B8>='הגדרות'!$B$4,D8>='הגדרות'!$B$5),"1. לאטמט קודם",IF(B8>='הגדרות'!$B$4,"2. לאטמט בפשטות",IF(D8>='הגדרות'!$B$5,"3. לאטמט עם בקרה","4. להשאיר ידני")))) | H8: =IF(OR(F8="",D8="",E8=""),"",ROUND(F8*D8*E8,1)) | I8: =IF(H8="","",RANK(H8,$H$5:$H$64))
F9: =IF(OR(B9="",C9=""),"",ROUND(B9*C9/60,1)) | G9: =IF(OR(B9="",D9=""),"",IF(AND(B9>='הגדרות'!$B$4,D9>='הגדרות'!$B$5),"1. לאטמט קודם",IF(B9>='הגדרות'!$B$4,"2. לאטמט בפשטות",IF(D9>='הגדרות'!$B$5,"3. לאטמט עם בקרה","4. להשאיר ידני")))) | H9: =IF(OR(F9="",D9="",E9=""),"",ROUND(F9*D9*E9,1)) | I9: =IF(H9="","",RANK(H9,$H$5:$H$64))
F10: =IF(OR(B10="",C10=""),"",ROUND(B10*C10/60,1)) | G10: =IF(OR(B10="",D10=""),"",IF(AND(B10>='הגדרות'!$B$4,D10>='הגדרות'!$B$5),"1. לאטמט קודם",IF(B10>='הגדרות'!$B$4,"2. לאטמט בפשטות",IF(D10>='הגדרות'!$B$5,"3. לאטמט עם בקרה","4. להשאיר ידני")))) | H10: =IF(OR(F10="",D10="",E10=""),"",ROUND(F10*D10*E10,1)) | I10: =IF(H10="","",RANK(H10,$H$5:$H$64))
F11: =IF(OR(B11="",C11=""),"",ROUND(B11*C11/60,1)) | G11: =IF(OR(B11="",D11=""),"",IF(AND(B11>='הגדרות'!$B$4,D11>='הגדרות'!$B$5),"1. לאטמט קודם",IF(B11>='הגדרות'!$B$4,"2. לאטמט בפשטות",IF(D11>='הגדרות'!$B$5,"3. לאטמט עם בקרה","4. להשאיר ידני")))) | H11: =IF(OR(F11="",D11="",E11=""),"",ROUND(F11*D11*E11,1)) | I11: =IF(H11="","",RANK(H11,$H$5:$H$64))
F12: =IF(OR(B12="",C12=""),"",ROUND(B12*C12/60,1)) | G12: =IF(OR(B12="",D12=""),"",IF(AND(B12>='הגדרות'!$B$4,D12>='הגדרות'!$B$5),"1. לאטמט קודם",IF(B12>='הגדרות'!$B$4,"2. לאטמט בפשטות",IF(D12>='הגדרות'!$B$5,"3. לאטמט עם בקרה","4. להשאיר ידני")))) | H12: =IF(OR(F12="",D12="",E12=""),"",ROUND(F12*D12*E12,1)) | I12: =IF(H12="","",RANK(H12,$H$5:$H$64))
F13: =IF(OR(B13="",C13=""),"",ROUND(B13*C13/60,1)) | G13: =IF(OR(B13="",D13=""),"",IF(AND(B13>='הגדרות'!$B$4,D13>='הגדרות'!$B$5),"1. לאטמט קודם",IF(B13>='הגדרות'!$B$4,"2. לאטמט בפשטות",IF(D13>='הגדרות'!$B$5,"3. לאטמט עם בקרה","4. להשאיר ידני")))) | H13: =IF(OR(F13="",D13="",E13=""),"",ROUND(F13*D13*E13,1)) | I13: =IF(H13="","",RANK(H13,$H$5:$H$64))
F14: =IF(OR(B14="",C14=""),"",ROUND(B14*C14/60,1)) | G14: =IF(OR(B14="",D14=""),"",IF(AND(B14>='הגדרות'!$B$4,D14>='הגדרות'!$B$5),"1. לאטמט קודם",IF(B14>='הגדרות'!$B$4,"2. לאטמט בפשטות",IF(D14>='הגדרות'!$B$5,"3. לאטמט עם בקרה","4. להשאיר ידני")))) | H14: =IF(OR(F14="",D14="",E14=""),"",ROUND(F14*D14*E14,1)) | I14: =IF(H14="","",RANK(H14,$H$5:$H$64))
F15: =IF(OR(B15="",C15=""),"",ROUND(B15*C15/60,1)) | G15: =IF(OR(B15="",D15=""),"",IF(AND(B15>='הגדרות'!$B$4,D15>='הגדרות'!$B$5),"1. לאטמט קודם",IF(B15>='הגדרות'!$B$4,"2. לאטמט בפשטות",IF(D15>='הגדרות'!$B$5,"3. לאטמט עם בקרה","4. להשאיר ידני")))) | H15: =IF(OR(F15="",D15="",E15=""),"",ROUND(F15*D15*E15,1)) | I15: =IF(H15="","",RANK(H15,$H$5:$H$64))
F16: =IF(OR(B16="",C16=""),"",ROUND(B16*C16/60,1)) | G16: =IF(OR(B16="",D16=""),"",IF(AND(B16>='הגדרות'!$B$4,D16>='הגדרות'!$B$5),"1. לאטמט קודם",IF(B16>='הגדרות'!$B$4,"2. לאטמט בפשטות",IF(D16>='הגדרות'!$B$5,"3. לאטמט עם בקרה","4. להשאיר ידני")))) | H16: =IF(OR(F16="",D16="",E16=""),"",ROUND(F16*D16*E16,1)) | I16: =IF(H16="","",RANK(H16,$H$5:$H$64))
... F64: =IF(OR(B64="",C64=""),"",ROUND(B64*C64/60,1)) | G64: =IF(OR(B64="",D64=""),"",IF(AND(B64>='הגדרות'!$B$4,D64>='הגדרות'!$B$5),"1. לאטמט קודם",IF(B64>='הגדרות'!$B$4,"2. לאטמט בפשטות",IF(D64>='הגדרות'!$B$5,"3. לאטמט עם בקרה","4. להשאיר ידני")))) | H64: =IF(OR(F64="",D64="",E64=""),"",ROUND(F64*D64*E64,1)) | I64: =IF(H64="","",RANK(H64,$H$5:$H$64))

Sheet הגדרות
A1: הגדרות סף
A3: הגדרה | B3: ערך | C3: הסבר
A4: סף תדירות גבוהה (פעמים בחודש) | B4: 20 | C4: משימה שחוזרת לפחות כל כך הרבה פעמים בחודש נחשבת תכופה.
A5: סף עלות טעות גבוהה (1-5) | B5: 3 | C5: משימה שבה עלות הטעות היא לפחות הערך הזה נחשבת רגישה.

Sheet הסבר
A1: איך משתמשים
A3: 1. רושמים בגיליון "דירוג משימות" כל משימה חוזרת שאתם עושים ידנית: הזנת ליד, שליחת הצעת מחיר, תזכורת תשלום, דוח שבועי ועוד.
A4: 2. לכל משימה: כמה פעמים בחודש היא חוזרת, וכמה דקות היא לוקחת בכל פעם.
A5: 3. עלות טעות: 1 = טעות קטנה שמתקנים בדקה, 5 = טעות שעולה כסף, לקוח או מוניטין.
A6: 4. קלות אוטומציה: 1 = צריך פיתוח או חיבור מורכב, 5 = אפשר להקים בשעות ספורות עם כלי קיים.
A7: 5. הרבעון נקבע לפי הספים בגיליון "הגדרות". ציון העדיפות הוא: שעות בחודש x עלות טעות x קלות. הדירוג חשוב יותר מהמספר עצמו.
A8: 6. מתחילים ממשימות ברבעון 1 עם הדירוג הגבוה ביותר. רבעון 3 דורש שלב אישור אנושי לפני שהאוטומציה פועלת.
A9: 7. הנתונים שאתם מזינים הם הערכה שלכם. מומלץ למדוד שבוע אמיתי של עבודה לפני שמחליטים.
